BEGIN:VCALENDAR
VERSION:2.0
PRODID:-//ChamberMaster//Event Calendar 2.0//EN
METHOD:PUBLISH
X-PUBLISHED-TTL:P3D
REFRESH-INTERVAL:P3D
CALSCALE:GREGORIAN
BEGIN:VEVENT
DTSTART:20220215T180000Z
DTEND:20220215T230000Z
X-MICROSOFT-CDO-ALLDAYEVENT:FALSE
SUMMARY:4A - 7 Sr District Tournament
DESCRIPTION:Arkadelphia Varsity Girls' Basketball Tournament
X-ALT-DESC;FMTTYPE=text/html:Arkadelphia Varsity Girls&#39\; Basketball Tournament
LOCATION:Arkadelphia Senior High School\, 401 High School Dr\, Arkadelphia\, AR 71923\, USA
UID:e.3129.5009657
SEQUENCE:3
DTSTAMP:20260423T033333Z
URL:https://business.arkadelphiaalliance.com/events/details/4a-7-sr-district-tournament-02-15-2022-5009657
END:VEVENT

END:VCALENDAR
