BEGIN:VCALENDAR
VERSION:2.0
PRODID:-//ChamberMaster//Event Calendar 2.0//EN
METHOD:PUBLISH
X-PUBLISHED-TTL:P3D
REFRESH-INTERVAL:P3D
CALSCALE:GREGORIAN
BEGIN:VEVENT
DTSTART:20210428T220000Z
DTEND:20210428T220000Z
X-MICROSOFT-CDO-ALLDAYEVENT:FALSE
SUMMARY:AHS Boy's Soccer vs. Bauxite
DESCRIPTION:
X-ALT-DESC;FMTTYPE=text/html:
LOCATION:AHS
UID:e.3129.5009421
SEQUENCE:3
DTSTAMP:20260423T231018Z
URL:https://business.arkadelphiaalliance.com/events/details/ahs-boy-s-soccer-vs-bauxite-5009421
END:VEVENT

END:VCALENDAR
