BEGIN:VCALENDAR
VERSION:2.0
PRODID:-//ChamberMaster//Event Calendar 2.0//EN
METHOD:PUBLISH
X-PUBLISHED-TTL:P3D
REFRESH-INTERVAL:P3D
CALSCALE:GREGORIAN
BEGIN:VEVENT
DTSTART:20210427T213000Z
DTEND:20210427T213000Z
X-MICROSOFT-CDO-ALLDAYEVENT:FALSE
SUMMARY:AHS Softball vs. Nashville
DESCRIPTION:
X-ALT-DESC;FMTTYPE=text/html:
LOCATION:AHS
UID:e.3129.5009419
SEQUENCE:3
DTSTAMP:20260423T231019Z
URL:https://business.arkadelphiaalliance.com/events/details/ahs-softball-vs-nashville-5009419
END:VEVENT

END:VCALENDAR
