BEGIN:VCALENDAR
VERSION:2.0
PRODID:-//ChamberMaster//Event Calendar 2.0//EN
METHOD:PUBLISH
X-PUBLISHED-TTL:P3D
REFRESH-INTERVAL:P3D
CALSCALE:GREGORIAN
BEGIN:VEVENT
DTSTART:20210520T220000Z
DTEND:20210521T013000Z
X-MICROSOFT-CDO-ALLDAYEVENT:FALSE
SUMMARY:Annual Alliance & Chamber Banquet Presented by Citizens Bank
DESCRIPTION:Annual Alliance & Chamber Banquet
X-ALT-DESC;FMTTYPE=text/html:Annual Alliance &amp\; Chamber Banquet
LOCATION:Blakelytown Event Venue
UID:e.3129.5007567
SEQUENCE:3
DTSTAMP:20260423T201904Z
URL:https://business.arkadelphiaalliance.com/events/details/annual-alliance-chamber-banquet-presented-by-citizens-bank-5007567
END:VEVENT

END:VCALENDAR
