BEGIN:VCALENDAR
VERSION:2.0
PRODID:-//ChamberMaster//Event Calendar 2.0//EN
METHOD:PUBLISH
X-PUBLISHED-TTL:P3D
REFRESH-INTERVAL:P3D
CALSCALE:GREGORIAN
BEGIN:VEVENT
DTSTART:20210504T193000Z
DTEND:20210504T223000Z
X-MICROSOFT-CDO-ALLDAYEVENT:FALSE
SUMMARY:APSD- All Sports Physicals
DESCRIPTION:Appointments can be made by calling Nurse Beth or visiting the faceook pages of: APSD School Nurse News FB Page or The Badger Athletics FB Page
X-ALT-DESC;FMTTYPE=text/html:Appointments can be made by calling Nurse Beth or visiting the faceook pages of: APSD School Nurse News FB Page or The Badger Athletics FB Page
LOCATION:
UID:e.3129.5009418
SEQUENCE:3
DTSTAMP:20260423T212922Z
URL:https://business.arkadelphiaalliance.com/events/details/apsd-all-sports-physicals-5009418
END:VEVENT

END:VCALENDAR
