BEGIN:VCALENDAR
VERSION:2.0
PRODID:-//ChamberMaster//Event Calendar 2.0//EN
METHOD:PUBLISH
X-PUBLISHED-TTL:P3D
REFRESH-INTERVAL:P3D
CALSCALE:GREGORIAN
BEGIN:VEVENT
DTSTART:20211019T223000Z
DTEND:20211019T233000Z
X-MICROSOFT-CDO-ALLDAYEVENT:FALSE
SUMMARY:Arkadelphia City Board Meeting
DESCRIPTION:
X-ALT-DESC;FMTTYPE=text/html:
LOCATION:
UID:e.3129.5009710
SEQUENCE:3
DTSTAMP:20260423T111405Z
URL:https://business.arkadelphiaalliance.com/events/details/arkadelphia-city-board-meeting-10-19-2021-5009710
END:VEVENT

END:VCALENDAR
