BEGIN:VCALENDAR
VERSION:2.0
PRODID:-//ChamberMaster//Event Calendar 2.0//EN
METHOD:PUBLISH
X-PUBLISHED-TTL:P3D
REFRESH-INTERVAL:P3D
CALSCALE:GREGORIAN
BEGIN:VEVENT
DTSTART:20210916T190000Z
DTEND:20210916T220000Z
X-MICROSOFT-CDO-ALLDAYEVENT:FALSE
SUMMARY:Arkadelphia High School Golf Tournament
DESCRIPTION:
X-ALT-DESC;FMTTYPE=text/html:
LOCATION:Degray State Park Golf Course\, 2027 State Park Maintenance Rd\, Bismarck\, AR 71929
UID:e.3129.5009605
SEQUENCE:3
DTSTAMP:20260420T170059Z
URL:https://business.arkadelphiaalliance.com/events/details/arkadelphia-high-school-golf-tournament-5009605
END:VEVENT

END:VCALENDAR
