BEGIN:VCALENDAR
VERSION:2.0
PRODID:-//ChamberMaster//Event Calendar 2.0//EN
METHOD:PUBLISH
X-PUBLISHED-TTL:P3D
REFRESH-INTERVAL:P3D
CALSCALE:GREGORIAN
BEGIN:VEVENT
DTSTART;VALUE=DATE:20210819
DTEND;VALUE=DATE:20210820
TRANSP:TRANSPARENT
X-MICROSOFT-CDO-ALLDAYEVENT:TRUE
SUMMARY:Arkadelphia High School Golf Tournament DeQueen\, Hope\, etc
DESCRIPTION:
X-ALT-DESC;FMTTYPE=text/html:
LOCATION:Degray State Park Golf Course\, 2027 State Park Maintenance Rd\, Bismarck\, AR 71929
UID:e.3129.5009603
SEQUENCE:3
DTSTAMP:20260423T171038Z
URL:https://business.arkadelphiaalliance.com/events/details/arkadelphia-high-school-golf-tournament-dequeen-hope-etc-5009603
END:VEVENT

END:VCALENDAR
