BEGIN:VCALENDAR
VERSION:2.0
PRODID:-//ChamberMaster//Event Calendar 2.0//EN
METHOD:PUBLISH
X-PUBLISHED-TTL:P3D
REFRESH-INTERVAL:P3D
CALSCALE:GREGORIAN
BEGIN:VEVENT
DTSTART;VALUE=DATE:20190413
DTEND;VALUE=DATE:20190414
TRANSP:TRANSPARENT
X-MICROSOFT-CDO-ALLDAYEVENT:TRUE
SUMMARY:Arkadelphia High School Junior/Senior Prom
DESCRIPTION:Arkadelphia High School Junior/Senior Prom
X-ALT-DESC;FMTTYPE=text/html:Arkadelphia High School Junior/Senior Prom
LOCATION:Arkadelphia\, AR 71923\, USA
UID:e.3129.5008844
SEQUENCE:3
DTSTAMP:20260420T191957Z
URL:https://business.arkadelphiaalliance.com/events/details/arkadelphia-high-school-junior-senior-prom-5008844
END:VEVENT

END:VCALENDAR
