BEGIN:VCALENDAR
VERSION:2.0
PRODID:-//ChamberMaster//Event Calendar 2.0//EN
METHOD:PUBLISH
X-PUBLISHED-TTL:P3D
REFRESH-INTERVAL:P3D
CALSCALE:GREGORIAN
BEGIN:VEVENT
DTSTART:20201203T223000Z
DTEND:20201203T233000Z
X-MICROSOFT-CDO-ALLDAYEVENT:FALSE
SUMMARY:Arkadelphia Santa Cruise
DESCRIPTION:Santa will be escorted in his sleigh through the streets of Arkadelphia by the Arkadelphia Police and Fire Departments. Santa will depart from the Arkadelphia Fire Station. Please stand curbside and wave to Santa!
X-ALT-DESC;FMTTYPE=text/html:Santa will be escorted in his sleigh through the streets of Arkadelphia by the Arkadelphia Police and Fire Departments. Santa will depart from the Arkadelphia Fire Station. Please stand curbside and wave to Santa!
LOCATION:Arkadelphia\, AR
UID:e.3129.5009375
SEQUENCE:3
DTSTAMP:20260426T030651Z
URL:https://business.arkadelphiaalliance.com/events/details/arkadelphia-santa-cruise-5009375
END:VEVENT

END:VCALENDAR
