BEGIN:VCALENDAR
VERSION:2.0
PRODID:-//ChamberMaster//Event Calendar 2.0//EN
METHOD:PUBLISH
X-PUBLISHED-TTL:P3D
REFRESH-INTERVAL:P3D
CALSCALE:GREGORIAN
BEGIN:VEVENT
DTSTART:20210828T000000Z
DTEND:20210828T030000Z
X-MICROSOFT-CDO-ALLDAYEVENT:FALSE
SUMMARY:Arkadelphia vs Camden Football Game
DESCRIPTION:Arkadelphia High School Football Game Non-Conference
X-ALT-DESC;FMTTYPE=text/html:Arkadelphia High School Football Game Non-Conference
LOCATION:Home GAME
UID:e.3129.5009583
SEQUENCE:3
DTSTAMP:20260423T151433Z
URL:https://business.arkadelphiaalliance.com/events/details/arkadelphia-vs-camden-football-game-5009583
END:VEVENT

END:VCALENDAR
