BEGIN:VCALENDAR
VERSION:2.0
PRODID:-//ChamberMaster//Event Calendar 2.0//EN
METHOD:PUBLISH
X-PUBLISHED-TTL:P3D
REFRESH-INTERVAL:P3D
CALSCALE:GREGORIAN
BEGIN:VEVENT
DTSTART:20211009T000000Z
DTEND:20211009T030000Z
X-MICROSOFT-CDO-ALLDAYEVENT:FALSE
SUMMARY:Arkadelphia vs. Fountain lake
DESCRIPTION:Arkadelphia Badgers Varsity Boys Football
X-ALT-DESC;FMTTYPE=text/html:Arkadelphia Badgers Varsity Boys Football
LOCATION:Home Game
UID:e.3129.5009585
SEQUENCE:3
DTSTAMP:20260423T110949Z
URL:https://business.arkadelphiaalliance.com/events/details/arkadelphia-vs-fountain-lake-5009585
END:VEVENT

END:VCALENDAR
