BEGIN:VCALENDAR
VERSION:2.0
PRODID:-//ChamberMaster//Event Calendar 2.0//EN
METHOD:PUBLISH
X-PUBLISHED-TTL:P3D
REFRESH-INTERVAL:P3D
CALSCALE:GREGORIAN
BEGIN:VEVENT
DTSTART:20210925T000000Z
DTEND:20210925T030000Z
X-MICROSOFT-CDO-ALLDAYEVENT:FALSE
SUMMARY:Arkadelphia vs. Nashville
DESCRIPTION:Arkadelphia Badgers Varsity Boys Football game
X-ALT-DESC;FMTTYPE=text/html:Arkadelphia Badgers Varsity Boys Football game
LOCATION:Home game
UID:e.3129.5009584
SEQUENCE:3
DTSTAMP:20260423T124931Z
URL:https://business.arkadelphiaalliance.com/events/details/arkadelphia-vs-nashville-5009584
END:VEVENT

END:VCALENDAR
