BEGIN:VCALENDAR
VERSION:2.0
PRODID:-//ChamberMaster//Event Calendar 2.0//EN
METHOD:PUBLISH
X-PUBLISHED-TTL:P3D
REFRESH-INTERVAL:P3D
CALSCALE:GREGORIAN
BEGIN:VEVENT
DTSTART:20211113T190000Z
DTEND:20211114T000000Z
X-MICROSOFT-CDO-ALLDAYEVENT:FALSE
SUMMARY:Battle of the Ravine
DESCRIPTION:94th Annual Battle of the Ravine HSU vs. OBU
X-ALT-DESC;FMTTYPE=text/html:94th Annual Battle of the Ravine HSU vs. OBU
LOCATION:ARKADELPHIA\, AR CARPENTER-HAYGOOD STADIUM AT RUGGLES FIELD
UID:e.3129.5009651
SEQUENCE:3
DTSTAMP:20260423T092457Z
URL:https://business.arkadelphiaalliance.com/events/details/battle-of-the-ravine-5009651
END:VEVENT

END:VCALENDAR
