BEGIN:VCALENDAR
VERSION:2.0
PRODID:-//ChamberMaster//Event Calendar 2.0//EN
METHOD:PUBLISH
X-PUBLISHED-TTL:P3D
REFRESH-INTERVAL:P3D
CALSCALE:GREGORIAN
BEGIN:VEVENT
DTSTART:20221120T000000Z
DTEND:20221120T030000Z
X-MICROSOFT-CDO-ALLDAYEVENT:FALSE
SUMMARY:Boards & Bunco with CASA
DESCRIPTION:Bring your best charcuterie board and your favorite bunco partners for a fun night supporting CASA.
X-ALT-DESC;FMTTYPE=text/html:Bring your best charcuterie board and your favorite bunco partners for a fun night supporting CASA.
LOCATION:67 Grill in Arkadelphia
UID:e.3129.5009792
SEQUENCE:3
DTSTAMP:20260422T102603Z
URL:https://business.arkadelphiaalliance.com/events/details/boards-bunco-with-casa-5009792
END:VEVENT

END:VCALENDAR
