BEGIN:VCALENDAR
VERSION:2.0
PRODID:-//ChamberMaster//Event Calendar 2.0//EN
METHOD:PUBLISH
X-PUBLISHED-TTL:P3D
REFRESH-INTERVAL:P3D
CALSCALE:GREGORIAN
BEGIN:VEVENT
DTSTART;VALUE=DATE:20210911
DTEND;VALUE=DATE:20210912
TRANSP:TRANSPARENT
X-MICROSOFT-CDO-ALLDAYEVENT:TRUE
SUMMARY:BOB GRAVETT INVITATIONAL
DESCRIPTION:Women's Cross Country
X-ALT-DESC;FMTTYPE=text/html:Women&#39\;s Cross Country
LOCATION:Arkadelphia\, AR
UID:e.3129.5009674
SEQUENCE:3
DTSTAMP:20260423T124637Z
URL:https://business.arkadelphiaalliance.com/events/details/bob-gravett-invitational-5009674
END:VEVENT

END:VCALENDAR
