BEGIN:VCALENDAR
VERSION:2.0
PRODID:-//ChamberMaster//Event Calendar 2.0//EN
METHOD:PUBLISH
X-PUBLISHED-TTL:P3D
REFRESH-INTERVAL:P3D
CALSCALE:GREGORIAN
BEGIN:VEVENT
DTSTART:20210923T170000Z
DTEND:20210923T220000Z
X-MICROSOFT-CDO-ALLDAYEVENT:FALSE
SUMMARY:Boys District Golf Tournament
DESCRIPTION:
X-ALT-DESC;FMTTYPE=text/html:
LOCATION:Degray State Park Golf Course\, 2027 State Park Maintenance Rd\, Bismarck\, AR 71929
UID:e.3129.5009608
SEQUENCE:3
DTSTAMP:20260423T124832Z
URL:https://business.arkadelphiaalliance.com/events/details/boys-district-golf-tournament-5009608
END:VEVENT

END:VCALENDAR
