BEGIN:VCALENDAR
VERSION:2.0
PRODID:-//ChamberMaster//Event Calendar 2.0//EN
METHOD:PUBLISH
X-PUBLISHED-TTL:P3D
REFRESH-INTERVAL:P3D
CALSCALE:GREGORIAN
BEGIN:VEVENT
DTSTART:20210608T123000Z
DTEND:20210609T003000Z
X-MICROSOFT-CDO-ALLDAYEVENT:FALSE
SUMMARY:Bypass Bond and Renewing an Economic Development Tax
DESCRIPTION:On June 8th\, let's vote FOR the bypass bond and renew our local economic development funding and keep moving Clark County forward.\n\nThe last day to get the absentee voting application sent in by fax\, mail\, or email is June 1st\, 2021.
X-ALT-DESC;FMTTYPE=text/html:On June 8th\, let&#39\;s vote FOR the bypass bond and renew our local economic development funding and keep moving Clark County forward.<br />\nThe last day to get the absentee voting application sent in by fax\, mail\, or email is June 1st\, 2021.
LOCATION:Arkadelphia Recreation Center Amity City Hall Gurdon City Hall
UID:e.3129.5009424
SEQUENCE:3
DTSTAMP:20260423T181315Z
URL:https://business.arkadelphiaalliance.com/events/details/bypass-bond-and-renewing-an-economic-development-tax-5009424
END:VEVENT

END:VCALENDAR
