BEGIN:VCALENDAR
VERSION:2.0
PRODID:-//ChamberMaster//Event Calendar 2.0//EN
METHOD:PUBLISH
X-PUBLISHED-TTL:P3D
REFRESH-INTERVAL:P3D
CALSCALE:GREGORIAN
BEGIN:VEVENT
DTSTART:20211228T230000Z
DTEND:20211229T020000Z
X-MICROSOFT-CDO-ALLDAYEVENT:FALSE
SUMMARY:Camden Fairview at Arkadelphia
DESCRIPTION:ArkadelphiaVarsity Boys' Basketball Game
X-ALT-DESC;FMTTYPE=text/html:ArkadelphiaVarsity Boys&#39\; Basketball Game
LOCATION:Arkadelphia Senior High School\, 401 High School Dr\, Arkadelphia\, AR 71923\, USA
UID:e.3129.5009592
SEQUENCE:3
DTSTAMP:20260423T070856Z
URL:https://business.arkadelphiaalliance.com/events/details/camden-fairview-at-arkadelphia-5009592
END:VEVENT

END:VCALENDAR
