BEGIN:VCALENDAR
VERSION:2.0
PRODID:-//ChamberMaster//Event Calendar 2.0//EN
METHOD:PUBLISH
X-PUBLISHED-TTL:P3D
REFRESH-INTERVAL:P3D
CALSCALE:GREGORIAN
BEGIN:VEVENT
DTSTART:20210202T230000Z
DTEND:20210203T010000Z
X-MICROSOFT-CDO-ALLDAYEVENT:FALSE
SUMMARY:Celebrations Wine & Beer Tasting
DESCRIPTION:Celebrations Fine Wine and Spirits will be having their monthly wine tasting.
X-ALT-DESC;FMTTYPE=text/html:Celebrations Fine Wine and Spirits will be having their monthly wine tasting.
LOCATION:Celebrations Fine Wine and Spirits 1210 N 10th street\, Arkadelphia\, AR 71998
UID:e.3129.5009273
SEQUENCE:3
DTSTAMP:20260425T225411Z
URL:https://business.arkadelphiaalliance.com/events/details/celebrations-wine-beer-tasting-02-02-2021-5009273
END:VEVENT

END:VCALENDAR
