BEGIN:VCALENDAR
VERSION:2.0
PRODID:-//ChamberMaster//Event Calendar 2.0//EN
METHOD:PUBLISH
X-PUBLISHED-TTL:P3D
REFRESH-INTERVAL:P3D
CALSCALE:GREGORIAN
BEGIN:VEVENT
DTSTART:20201201T230000Z
DTEND:20201202T010000Z
X-MICROSOFT-CDO-ALLDAYEVENT:FALSE
SUMMARY:Celebrations Wine & Beer Tasting
DESCRIPTION:Celebrations Fine Wine and Spirits will be having their monthly wine tasting.
X-ALT-DESC;FMTTYPE=text/html:Celebrations Fine Wine and Spirits will be having their monthly wine tasting.
LOCATION:Celebrations Fine Wine and Spirits 1210 N 10th street\, Arkadelphia\, AR 71998
UID:e.3129.5009271
SEQUENCE:3
DTSTAMP:20260426T025427Z
URL:https://business.arkadelphiaalliance.com/events/details/celebrations-wine-beer-tasting-12-01-2020-5009271
END:VEVENT

END:VCALENDAR
