BEGIN:VCALENDAR
VERSION:2.0
PRODID:-//ChamberMaster//Event Calendar 2.0//EN
METHOD:PUBLISH
X-PUBLISHED-TTL:P3D
REFRESH-INTERVAL:P3D
CALSCALE:GREGORIAN
BEGIN:VEVENT
DTSTART:20211121T180000Z
DTEND:20211121T230000Z
X-MICROSOFT-CDO-ALLDAYEVENT:FALSE
SUMMARY:Christmas Open House
DESCRIPTION:looking good mens store Hardman interiors The Farmhouse Knit unto Others Shuffield Music Kelzek Fine Jewelry & Gifts (12-4) Simply You Boutique Samantha's Bakery & Cafe Christi's Gifts Mary & Martha's Florist and Gifts (12-4) young forever Factory Connection Compass Healthcare Adorn Boutique Waffle House Java Primo El Parian Adorn Boutique 67 Grill Hamburger Barn Southern Bancorp
X-ALT-DESC;FMTTYPE=text/html:looking good mens store Hardman interiors The Farmhouse Knit unto Others Shuffield Music Kelzek Fine Jewelry &amp\; Gifts (12-4) Simply You Boutique Samantha&#39\;s Bakery &amp\; Cafe Christi&#39\;s Gifts Mary &amp\; Martha&#39\;s Florist and Gifts (12-4) young forever Factory Connection Compass Healthcare Adorn Boutique Waffle House Java Primo El Parian Adorn Boutique 67 Grill Hamburger Barn Southern Bancorp
LOCATION:
UID:e.3129.5009774
SEQUENCE:3
DTSTAMP:20260423T091809Z
URL:https://business.arkadelphiaalliance.com/events/details/christmas-open-house-5009774
END:VEVENT

END:VCALENDAR
