BEGIN:VCALENDAR
VERSION:2.0
PRODID:-//ChamberMaster//Event Calendar 2.0//EN
METHOD:PUBLISH
X-PUBLISHED-TTL:P3D
REFRESH-INTERVAL:P3D
CALSCALE:GREGORIAN
BEGIN:VEVENT
DTSTART:20210817T210000Z
DTEND:20210817T220000Z
X-MICROSOFT-CDO-ALLDAYEVENT:FALSE
SUMMARY:Community Organization Fair
DESCRIPTION:Local organizations are welcome to join us for a community organization fair for our students to get to know the community.
X-ALT-DESC;FMTTYPE=text/html:Local organizations are welcome to join us for a community organization fair for our students to get to know the community.
LOCATION:
UID:e.3129.5009577
SEQUENCE:3
DTSTAMP:20260423T145627Z
URL:https://business.arkadelphiaalliance.com/events/details/community-organization-fair-5009577
END:VEVENT

END:VCALENDAR
