BEGIN:VCALENDAR
VERSION:2.0
PRODID:-//ChamberMaster//Event Calendar 2.0//EN
METHOD:PUBLISH
X-PUBLISHED-TTL:P3D
REFRESH-INTERVAL:P3D
CALSCALE:GREGORIAN
BEGIN:VEVENT
DTSTART:20211123T230000Z
DTEND:20211124T010000Z
X-MICROSOFT-CDO-ALLDAYEVENT:FALSE
SUMMARY:Community Thanksgiving Dinner
DESCRIPTION:A community wide Thanksgiving dinner
X-ALT-DESC;FMTTYPE=text/html:A community wide Thanksgiving dinner
LOCATION:Henderson State University Garrison Center
UID:e.3129.5009775
SEQUENCE:3
DTSTAMP:20260423T091618Z
URL:https://business.arkadelphiaalliance.com/events/details/community-thanksgiving-dinner-5009775
END:VEVENT

END:VCALENDAR
