BEGIN:VCALENDAR
VERSION:2.0
PRODID:-//ChamberMaster//Event Calendar 2.0//EN
METHOD:PUBLISH
X-PUBLISHED-TTL:P3D
REFRESH-INTERVAL:P3D
CALSCALE:GREGORIAN
BEGIN:VEVENT
DTSTART:20211028T000000Z
DTEND:20211028T030000Z
X-MICROSOFT-CDO-ALLDAYEVENT:FALSE
SUMMARY:Cornhole at BBCDH
DESCRIPTION:
X-ALT-DESC;FMTTYPE=text/html:
LOCATION:
UID:e.3129.5009740
SEQUENCE:3
DTSTAMP:20260423T105624Z
URL:https://business.arkadelphiaalliance.com/events/details/cornhole-at-bbcdh-10-27-2021-5009740
END:VEVENT

END:VCALENDAR
