BEGIN:VCALENDAR
VERSION:2.0
PRODID:-//ChamberMaster//Event Calendar 2.0//EN
METHOD:PUBLISH
X-PUBLISHED-TTL:P3D
REFRESH-INTERVAL:P3D
CALSCALE:GREGORIAN
BEGIN:VEVENT
DTSTART:20211030T220000Z
DTEND:20211031T040000Z
X-MICROSOFT-CDO-ALLDAYEVENT:FALSE
SUMMARY:Costume Contest @ The Ravine
DESCRIPTION:
X-ALT-DESC;FMTTYPE=text/html:
LOCATION:
UID:e.3129.5009763
SEQUENCE:3
DTSTAMP:20260423T110806Z
URL:https://business.arkadelphiaalliance.com/events/details/costume-contest-the-ravine-5009763
END:VEVENT

END:VCALENDAR
