BEGIN:VCALENDAR
VERSION:2.0
PRODID:-//ChamberMaster//Event Calendar 2.0//EN
METHOD:PUBLISH
X-PUBLISHED-TTL:P3D
REFRESH-INTERVAL:P3D
CALSCALE:GREGORIAN
BEGIN:VEVENT
DTSTART:20230118T150000Z
DTEND:20230118T173000Z
X-MICROSOFT-CDO-ALLDAYEVENT:FALSE
SUMMARY:DeGray Lake 50th Anniversary
DESCRIPTION:DeGray Lake Visitor Center in Arkadelphia will host a welcome ceremony and open house to commemorate the 50th anniversary of the USACE Vicksburg District's DeGray Lake and hydropower plant. The public is welcome to attend the event for free. Parking will be offered both on-site and at the spillway boat ramp for additional vehicles.
X-ALT-DESC;FMTTYPE=text/html:DeGray Lake Visitor Center in Arkadelphia will host a welcome ceremony and open house to commemorate the 50th anniversary of the USACE Vicksburg District&#39\;s DeGray Lake and hydropower plant. The public is welcome to attend the event for free. Parking will be offered both on-site and at the spillway boat ramp for additional vehicles.
LOCATION:DeGray Lake Visitor Center in Arkadelphia 543 Skyline Drive
UID:e.3129.5009935
SEQUENCE:3
DTSTAMP:20260422T065131Z
URL:https://business.arkadelphiaalliance.com/events/details/degray-lake-50th-anniversary-5009935
END:VEVENT

END:VCALENDAR
