BEGIN:VCALENDAR
VERSION:2.0
PRODID:-//ChamberMaster//Event Calendar 2.0//EN
METHOD:PUBLISH
X-PUBLISHED-TTL:P3D
REFRESH-INTERVAL:P3D
CALSCALE:GREGORIAN
BEGIN:VEVENT
DTSTART:20210601T133000Z
DTEND:20210607T213000Z
X-MICROSOFT-CDO-ALLDAYEVENT:FALSE
SUMMARY:Early Voting for the Bypass Bond and Renewing an Economic Development Tax
DESCRIPTION:Early Voting starts on June 1st through June 7th to vote FOR the bypass bond and renew our local economic development funding and keep moving Clark County forward. No Saturday Voting. The last day to get the absentee voting application sent in by fax\, mail\, or email is June 1st\, 2021.
X-ALT-DESC;FMTTYPE=text/html:Early Voting starts on June 1st through June 7th to vote FOR the bypass bond and renew our local economic development funding and keep moving Clark County forward. No Saturday Voting. The last day to get the absentee voting application sent in by fax\, mail\, or email is June 1st\, 2021.
LOCATION:Arkadelphia Recreation Center
UID:e.3129.5009425
SEQUENCE:3
DTSTAMP:20260423T181906Z
URL:https://business.arkadelphiaalliance.com/events/details/early-voting-for-the-bypass-bond-and-renewing-an-economic-development-tax-5009425
END:VEVENT

END:VCALENDAR
