BEGIN:VCALENDAR
VERSION:2.0
PRODID:-//ChamberMaster//Event Calendar 2.0//EN
METHOD:PUBLISH
X-PUBLISHED-TTL:P3D
REFRESH-INTERVAL:P3D
CALSCALE:GREGORIAN
BEGIN:VEVENT
DTSTART:20210617T210000Z
DTEND:20210617T230000Z
X-MICROSOFT-CDO-ALLDAYEVENT:FALSE
SUMMARY:Fairfield Ribbon Cutting
DESCRIPTION:Come join us on the ribbon-cutting and open house of the NEW hotel in Arkadelphia!
X-ALT-DESC;FMTTYPE=text/html:Come join us on the ribbon-cutting and open house of the NEW hotel in Arkadelphia!
LOCATION:258 Red Hill Road Arkadelphia\, AR 71923
UID:e.3129.5009557
SEQUENCE:3
DTSTAMP:20260423T181239Z
URL:https://business.arkadelphiaalliance.com/events/details/fairfield-ribbon-cutting-5009557
END:VEVENT

END:VCALENDAR
