BEGIN:VCALENDAR
VERSION:2.0
PRODID:-//ChamberMaster//Event Calendar 2.0//EN
METHOD:PUBLISH
X-PUBLISHED-TTL:P3D
REFRESH-INTERVAL:P3D
CALSCALE:GREGORIAN
BEGIN:VEVENT
DTSTART;VALUE=DATE:20211122
DTEND;VALUE=DATE:20211125
TRANSP:TRANSPARENT
X-MICROSOFT-CDO-ALLDAYEVENT:TRUE
SUMMARY:Farmhouse Special Event
DESCRIPTION:Cookie Pop Up
X-ALT-DESC;FMTTYPE=text/html:Cookie Pop Up
LOCATION:636 Main St. Arkadelphia\, AR
UID:e.3129.5009768
SEQUENCE:3
DTSTAMP:20260423T112540Z
URL:https://business.arkadelphiaalliance.com/events/details/farmhouse-special-event-11-22-2021-5009768
END:VEVENT

END:VCALENDAR
