BEGIN:VCALENDAR
VERSION:2.0
PRODID:-//ChamberMaster//Event Calendar 2.0//EN
METHOD:PUBLISH
X-PUBLISHED-TTL:P3D
REFRESH-INTERVAL:P3D
CALSCALE:GREGORIAN
BEGIN:VEVENT
DTSTART:20210911T230000Z
DTEND:20210912T020000Z
X-MICROSOFT-CDO-ALLDAYEVENT:FALSE
SUMMARY:Football- HSU vs. Northwestern Oklahoma State University
DESCRIPTION:
X-ALT-DESC;FMTTYPE=text/html:
LOCATION:ARKADELPHIA\, AR CARPENTER-HAYGOOD STADIUM AT RUGGLES FIELD
UID:e.3129.5009643
SEQUENCE:3
DTSTAMP:20260423T125241Z
URL:https://business.arkadelphiaalliance.com/events/details/football-hsu-vs-northwestern-oklahoma-state-university-5009643
END:VEVENT

END:VCALENDAR
