BEGIN:VCALENDAR
VERSION:2.0
PRODID:-//ChamberMaster//Event Calendar 2.0//EN
METHOD:PUBLISH
X-PUBLISHED-TTL:P3D
REFRESH-INTERVAL:P3D
CALSCALE:GREGORIAN
BEGIN:VEVENT
DTSTART:20211030T190000Z
DTEND:20211030T230000Z
X-MICROSOFT-CDO-ALLDAYEVENT:FALSE
SUMMARY:Football- HSU vs. Southern Nazarene University
DESCRIPTION:
X-ALT-DESC;FMTTYPE=text/html:
LOCATION:ARKADELPHIA\, AR CARPENTER-HAYGOOD STADIUM AT RUGGLES FIELD
UID:e.3129.5009649
SEQUENCE:3
DTSTAMP:20260423T111625Z
URL:https://business.arkadelphiaalliance.com/events/details/football-hsu-vs-southern-nazarene-university-5009649
END:VEVENT

END:VCALENDAR
