BEGIN:VCALENDAR
VERSION:2.0
PRODID:-//ChamberMaster//Event Calendar 2.0//EN
METHOD:PUBLISH
X-PUBLISHED-TTL:P3D
REFRESH-INTERVAL:P3D
CALSCALE:GREGORIAN
BEGIN:VEVENT
DTSTART:20211223T000000Z
DTEND:20211223T030000Z
X-MICROSOFT-CDO-ALLDAYEVENT:FALSE
SUMMARY:Fordyce at Arkadelphia
DESCRIPTION:Arkadelphia Varsity Boys' Basketball Game
X-ALT-DESC;FMTTYPE=text/html:Arkadelphia Varsity Boys&#39\; Basketball Game
LOCATION:Arkadelphia Senior High School\, 401 High School Dr\, Arkadelphia\, AR 71923\, USA
UID:e.3129.5009591
SEQUENCE:3
DTSTAMP:20260423T070844Z
URL:https://business.arkadelphiaalliance.com/events/details/fordyce-at-arkadelphia-5009591
END:VEVENT

END:VCALENDAR
