BEGIN:VCALENDAR
VERSION:2.0
PRODID:-//ChamberMaster//Event Calendar 2.0//EN
METHOD:PUBLISH
X-PUBLISHED-TTL:P3D
REFRESH-INTERVAL:P3D
CALSCALE:GREGORIAN
BEGIN:VEVENT
DTSTART:20210606T200000Z
DTEND:20210606T220000Z
X-MICROSOFT-CDO-ALLDAYEVENT:FALSE
SUMMARY:Ground breaking for Tate Temple Church of God in christ
DESCRIPTION:Ground breaking ceremony for the Greater Tate Temple Church of God in Christ \n\nWatch history happen!
X-ALT-DESC;FMTTYPE=text/html:Ground breaking ceremony for the Greater Tate Temple Church of God in Christ&nbsp\;<br />\nWatch history happen!
LOCATION:Location is 20th and Pine Streets.
UID:e.3129.5009556
SEQUENCE:3
DTSTAMP:20260423T181945Z
URL:https://business.arkadelphiaalliance.com/events/details/ground-breaking-for-tate-temple-church-of-god-in-christ-5009556
END:VEVENT

END:VCALENDAR
