BEGIN:VCALENDAR
VERSION:2.0
PRODID:-//ChamberMaster//Event Calendar 2.0//EN
METHOD:PUBLISH
X-PUBLISHED-TTL:P3D
REFRESH-INTERVAL:P3D
CALSCALE:GREGORIAN
BEGIN:VEVENT
DTSTART:20210130T220000Z
DTEND:20210131T030000Z
X-MICROSOFT-CDO-ALLDAYEVENT:FALSE
SUMMARY:Henderson State University men & women vs Oklahoma Baptist University men & women basketball game
DESCRIPTION:Henderson State University men & women vs Oklahoma Baptist University men & women basketball game
X-ALT-DESC;FMTTYPE=text/html:Henderson State University men &amp\; women vs Oklahoma Baptist University men &amp\; women basketball game
LOCATION:Arkadelphia\, AR/ Duke Wells Center
UID:e.3129.5009333
SEQUENCE:3
DTSTAMP:20260426T011006Z
URL:https://business.arkadelphiaalliance.com/events/details/henderson-state-university-men-women-vs-oklahoma-baptist-university-men-women-basketball-game-01-30-2021-5009333
END:VEVENT

END:VCALENDAR
