BEGIN:VCALENDAR
VERSION:2.0
PRODID:-//ChamberMaster//Event Calendar 2.0//EN
METHOD:PUBLISH
X-PUBLISHED-TTL:P3D
REFRESH-INTERVAL:P3D
CALSCALE:GREGORIAN
BEGIN:VEVENT
DTSTART:20201205T220000Z
DTEND:20201206T030000Z
X-MICROSOFT-CDO-ALLDAYEVENT:FALSE
SUMMARY:Henderson State University men & women vs Southern Arkansas University men & women basketball game
DESCRIPTION:Henderson State University men & women vs. Southern Arkansas University men & women basketball game.
X-ALT-DESC;FMTTYPE=text/html:Henderson State University men &amp\; women vs. Southern Arkansas University men &amp\; women basketball game.
LOCATION:Arkadelphia AR/ Duke Wells Center
UID:e.3129.5009325
SEQUENCE:3
DTSTAMP:20260426T032144Z
URL:https://business.arkadelphiaalliance.com/events/details/henderson-state-university-men-women-vs-southern-arkansas-university-men-women-basketball-game-5009325
END:VEVENT

END:VCALENDAR
