BEGIN:VCALENDAR
VERSION:2.0
PRODID:-//ChamberMaster//Event Calendar 2.0//EN
METHOD:PUBLISH
X-PUBLISHED-TTL:P3D
REFRESH-INTERVAL:P3D
CALSCALE:GREGORIAN
BEGIN:VEVENT
DTSTART:20210820T230000Z
DTEND:20210821T030000Z
X-MICROSOFT-CDO-ALLDAYEVENT:FALSE
SUMMARY:Henderson Street Fair
DESCRIPTION:Food\,Music\,Fun\, & Vaccine Clinic
X-ALT-DESC;FMTTYPE=text/html:Food\,Music\,Fun\, &amp\; Vaccine Clinic
LOCATION:Henderson State University
UID:e.3129.5009578
SEQUENCE:3
DTSTAMP:20260423T165847Z
URL:https://business.arkadelphiaalliance.com/events/details/henderson-street-fair-5009578
END:VEVENT

END:VCALENDAR
