BEGIN:VCALENDAR
VERSION:2.0
PRODID:-//ChamberMaster//Event Calendar 2.0//EN
METHOD:PUBLISH
X-PUBLISHED-TTL:P3D
REFRESH-INTERVAL:P3D
CALSCALE:GREGORIAN
BEGIN:VEVENT
DTSTART:20211218T230000Z
DTEND:20211219T020000Z
X-MICROSOFT-CDO-ALLDAYEVENT:FALSE
SUMMARY:Hope at Arkadelphia 0
DESCRIPTION:Arkadelphia Varsity Girls' Basketball Game
X-ALT-DESC;FMTTYPE=text/html:Arkadelphia Varsity Girls&#39\; Basketball Game
LOCATION:Arkadelphia Senior High School\, 401 High School Dr\, Arkadelphia\, AR 71923\, USA
UID:e.3129.5009639
SEQUENCE:3
DTSTAMP:20260423T070508Z
URL:https://business.arkadelphiaalliance.com/events/details/hope-at-arkadelphia-0-5009639
END:VEVENT

END:VCALENDAR
