BEGIN:VCALENDAR
VERSION:2.0
PRODID:-//ChamberMaster//Event Calendar 2.0//EN
METHOD:PUBLISH
X-PUBLISHED-TTL:P3D
REFRESH-INTERVAL:P3D
CALSCALE:GREGORIAN
BEGIN:VEVENT
DTSTART:20210911T230000Z
DTEND:20210912T020000Z
X-MICROSOFT-CDO-ALLDAYEVENT:FALSE
SUMMARY:HSU Football vs. Northwestern Oklahoma Baptist University
DESCRIPTION:
X-ALT-DESC;FMTTYPE=text/html:
LOCATION:Carpenter-Haygood Stadium at Ruggles Field
UID:e.3129.5009410
SEQUENCE:3
DTSTAMP:20260423T130419Z
URL:https://business.arkadelphiaalliance.com/events/details/hsu-football-vs-northwestern-oklahoma-baptist-university-5009410
END:VEVENT

END:VCALENDAR
