BEGIN:VCALENDAR
VERSION:2.0
PRODID:-//ChamberMaster//Event Calendar 2.0//EN
METHOD:PUBLISH
X-PUBLISHED-TTL:P3D
REFRESH-INTERVAL:P3D
CALSCALE:GREGORIAN
BEGIN:VEVENT
DTSTART:20211030T190000Z
DTEND:20211030T220000Z
X-MICROSOFT-CDO-ALLDAYEVENT:FALSE
SUMMARY:HSU Football vs. Southern Nazarene University
DESCRIPTION:
X-ALT-DESC;FMTTYPE=text/html:
LOCATION:Carpenter Haygood Stadium at Ruggles Field
UID:e.3129.5009413
SEQUENCE:3
DTSTAMP:20260423T111533Z
URL:https://business.arkadelphiaalliance.com/events/details/hsu-football-vs-southern-nazarene-university-5009413
END:VEVENT

END:VCALENDAR
