BEGIN:VCALENDAR
VERSION:2.0
PRODID:-//ChamberMaster//Event Calendar 2.0//EN
METHOD:PUBLISH
X-PUBLISHED-TTL:P3D
REFRESH-INTERVAL:P3D
CALSCALE:GREGORIAN
BEGIN:VEVENT
DTSTART:20210426T180000Z
DTEND:20210426T210000Z
X-MICROSOFT-CDO-ALLDAYEVENT:FALSE
SUMMARY:HSU JV Baseball vs. Arkansas Baptist College
DESCRIPTION:
X-ALT-DESC;FMTTYPE=text/html:
LOCATION:Clyde Berry Field
UID:e.3129.5009406
SEQUENCE:3
DTSTAMP:20260423T220012Z
URL:https://business.arkadelphiaalliance.com/events/details/hsu-jv-baseball-vs-arkansas-baptist-college-04-26-2021-5009406
END:VEVENT

END:VCALENDAR
