BEGIN:VCALENDAR
VERSION:2.0
PRODID:-//ChamberMaster//Event Calendar 2.0//EN
METHOD:PUBLISH
X-PUBLISHED-TTL:P3D
REFRESH-INTERVAL:P3D
CALSCALE:GREGORIAN
BEGIN:VEVENT
DTSTART:20210225T220000Z
DTEND:20210226T030000Z
X-MICROSOFT-CDO-ALLDAYEVENT:FALSE
SUMMARY:HSU men & women vs ATU men & women basketball game
DESCRIPTION:Henderson State University men & women vs Arkansas Tech University men & women basketball game.
X-ALT-DESC;FMTTYPE=text/html:Henderson State University men &amp\; women vs Arkansas Tech University men &amp\; women basketball game.
LOCATION:Arkadelphia\, AR/ Duke Wells Center
UID:e.3129.5009340
SEQUENCE:3
DTSTAMP:20260425T230243Z
URL:https://business.arkadelphiaalliance.com/events/details/hsu-men-women-vs-atu-men-women-basketball-game-5009340
END:VEVENT

END:VCALENDAR
