BEGIN:VCALENDAR
VERSION:2.0
PRODID:-//ChamberMaster//Event Calendar 2.0//EN
METHOD:PUBLISH
X-PUBLISHED-TTL:P3D
REFRESH-INTERVAL:P3D
CALSCALE:GREGORIAN
BEGIN:VEVENT
DTSTART:20210220T220000Z
DTEND:20210221T030000Z
X-MICROSOFT-CDO-ALLDAYEVENT:FALSE
SUMMARY:HSU men & women vs ECU men & women basketball game
DESCRIPTION:Henderson State University men & women vs East Central University men & women basketball game.
X-ALT-DESC;FMTTYPE=text/html:Henderson State University men &amp\; women vs East Central University men &amp\; women basketball game.
LOCATION:Arkdelphia\, AR/ Duke Wells Center
UID:e.3129.5009339
SEQUENCE:3
DTSTAMP:20260425T230454Z
URL:https://business.arkadelphiaalliance.com/events/details/hsu-men-women-vs-ecu-men-women-basketball-game-02-20-2021-5009339
END:VEVENT

END:VCALENDAR
