BEGIN:VCALENDAR
VERSION:2.0
PRODID:-//ChamberMaster//Event Calendar 2.0//EN
METHOD:PUBLISH
X-PUBLISHED-TTL:P3D
REFRESH-INTERVAL:P3D
CALSCALE:GREGORIAN
BEGIN:VEVENT
DTSTART:20210107T180000Z
DTEND:20210107T180000Z
X-MICROSOFT-CDO-ALLDAYEVENT:FALSE
SUMMARY:HSU men & women vs NWOSU men & women basketball game
DESCRIPTION:Henderson State University men & women vs Northwestern Oklahoma State University men & women basketball game.
X-ALT-DESC;FMTTYPE=text/html:Henderson State University men &amp\; women vs Northwestern Oklahoma State University men &amp\; women basketball game.
LOCATION:Arkadelphia\, AR/ Duke Wells Center
UID:e.3129.5009326
SEQUENCE:3
DTSTAMP:20260426T031722Z
URL:https://business.arkadelphiaalliance.com/events/details/hsu-men-women-vs-nwosu-men-women-basketball-game-5009326
END:VEVENT

END:VCALENDAR
