BEGIN:VCALENDAR
VERSION:2.0
PRODID:-//ChamberMaster//Event Calendar 2.0//EN
METHOD:PUBLISH
X-PUBLISHED-TTL:P3D
REFRESH-INTERVAL:P3D
CALSCALE:GREGORIAN
BEGIN:VEVENT
DTSTART:20210114T220000Z
DTEND:20210115T030000Z
X-MICROSOFT-CDO-ALLDAYEVENT:FALSE
SUMMARY:HSU men & women vs OBU men & women basketball game
DESCRIPTION:Henderson State University men & women vs Ouachita Baptist University men & women basketball game.
X-ALT-DESC;FMTTYPE=text/html:Henderson State University men &amp\; women vs Ouachita Baptist University men &amp\; women basketball game.
LOCATION:Arkadelphia AR
UID:e.3129.5009328
SEQUENCE:3
DTSTAMP:20260426T031431Z
URL:https://business.arkadelphiaalliance.com/events/details/hsu-men-women-vs-obu-men-women-basketball-game-5009328
END:VEVENT

END:VCALENDAR
