BEGIN:VCALENDAR
VERSION:2.0
PRODID:-//ChamberMaster//Event Calendar 2.0//EN
METHOD:PUBLISH
X-PUBLISHED-TTL:P3D
REFRESH-INTERVAL:P3D
CALSCALE:GREGORIAN
BEGIN:VEVENT
DTSTART:20210123T220000Z
DTEND:20210124T030000Z
X-MICROSOFT-CDO-ALLDAYEVENT:FALSE
SUMMARY:HSU men & women vs SEOSU
DESCRIPTION:Henderson State University men & women vs Southeastern Oklahoma State University men & women basketball game.
X-ALT-DESC;FMTTYPE=text/html:Henderson State University men &amp\; women vs Southeastern Oklahoma State University men &amp\; women basketball game.
LOCATION:Durant\, OK
UID:e.3129.5009331
SEQUENCE:3
DTSTAMP:20260426T004505Z
URL:https://business.arkadelphiaalliance.com/events/details/hsu-men-women-vs-seosu-5009331
END:VEVENT

END:VCALENDAR
