BEGIN:VCALENDAR
VERSION:2.0
PRODID:-//ChamberMaster//Event Calendar 2.0//EN
METHOD:PUBLISH
X-PUBLISHED-TTL:P3D
REFRESH-INTERVAL:P3D
CALSCALE:GREGORIAN
BEGIN:VEVENT
DTSTART:20210211T220000Z
DTEND:20210212T030000Z
X-MICROSOFT-CDO-ALLDAYEVENT:FALSE
SUMMARY:HSU men & women vs SWOSU men & women basketball game
DESCRIPTION:Henderson State University men & women vs Southwestern Oklahoma State University men & women basketball game.
X-ALT-DESC;FMTTYPE=text/html:Henderson State University men &amp\; women vs Southwestern Oklahoma State University men &amp\; women basketball game.
LOCATION:Weatherford\, OK
UID:e.3129.5009336
SEQUENCE:3
DTSTAMP:20260425T230559Z
URL:https://business.arkadelphiaalliance.com/events/details/hsu-men-women-vs-swosu-men-women-basketball-game-02-11-2021-5009336
END:VEVENT

END:VCALENDAR
