BEGIN:VCALENDAR
VERSION:2.0
PRODID:-//ChamberMaster//Event Calendar 2.0//EN
METHOD:PUBLISH
X-PUBLISHED-TTL:P3D
REFRESH-INTERVAL:P3D
CALSCALE:GREGORIAN
BEGIN:VEVENT
DTSTART:20210424T170000Z
DTEND:20210424T220000Z
X-MICROSOFT-CDO-ALLDAYEVENT:FALSE
SUMMARY:HSU Softball vs.Southeastern Oklahoma University
DESCRIPTION:
X-ALT-DESC;FMTTYPE=text/html:
LOCATION:Dee White Field
UID:e.3129.5009405
SEQUENCE:3
DTSTAMP:20260423T230910Z
URL:https://business.arkadelphiaalliance.com/events/details/hsu-softball-vs-southeastern-oklahoma-university-5009405
END:VEVENT

END:VCALENDAR
