BEGIN:VCALENDAR
VERSION:2.0
PRODID:-//ChamberMaster//Event Calendar 2.0//EN
METHOD:PUBLISH
X-PUBLISHED-TTL:P3D
REFRESH-INTERVAL:P3D
CALSCALE:GREGORIAN
BEGIN:VEVENT
DTSTART:20210826T160000Z
DTEND:20210826T180000Z
X-MICROSOFT-CDO-ALLDAYEVENT:FALSE
SUMMARY:IT ARKANSAS Lunch & learn
DESCRIPTION:
X-ALT-DESC;FMTTYPE=text/html:
LOCATION:
UID:e.3129.5009575
SEQUENCE:3
DTSTAMP:20260423T143250Z
URL:https://business.arkadelphiaalliance.com/events/details/it-arkansas-lunch-learn-5009575
END:VEVENT

END:VCALENDAR
