BEGIN:VCALENDAR
VERSION:2.0
PRODID:-//ChamberMaster//Event Calendar 2.0//EN
METHOD:PUBLISH
X-PUBLISHED-TTL:P3D
REFRESH-INTERVAL:P3D
CALSCALE:GREGORIAN
BEGIN:VEVENT
DTSTART:20210819T223000Z
DTEND:20210820T010000Z
X-MICROSOFT-CDO-ALLDAYEVENT:FALSE
SUMMARY:Joe T. Robinson at Arkadelphia (Benefit) (V) 0
DESCRIPTION:
X-ALT-DESC;FMTTYPE=text/html:
LOCATION:Arkadelphia Senior High School\, 401 High School Dr\, Arkadelphia\, AR 71923
UID:e.3129.5009610
SEQUENCE:3
DTSTAMP:20260423T151518Z
URL:https://business.arkadelphiaalliance.com/events/details/joe-t-robinson-at-arkadelphia-benefit-v-0-5009610
END:VEVENT

END:VCALENDAR
